BEGIN:VCALENDAR
VERSION:2.0
PRODID:-//Sorrento Quay Boardwalk - ECPv5.0.1//NONSGML v1.0//EN
CALSCALE:GREGORIAN
METHOD:PUBLISH
X-WR-CALNAME:Sorrento Quay Boardwalk
X-ORIGINAL-URL:https://www.sorrentoquayboardwalk.com.au
X-WR-CALDESC:Events for Sorrento Quay Boardwalk
BEGIN:VTIMEZONE
TZID:Asia/Shanghai
BEGIN:STANDARD
TZOFFSETFROM:+0800
TZOFFSETTO:+0800
TZNAME:CST
DTSTART:20200101T000000
END:STANDARD
END:VTIMEZONE
BEGIN:VEVENT
DTSTART;VALUE=DATE:20200228
DTEND;VALUE=DATE:20200302
DTSTAMP:20200227T223807
CREATED:20200206T073852Z
LAST-MODIFIED:20200206T073852Z
UID:4381-1582848000-1583107199@www.sorrentoquayboardwalk.com.au
SUMMARY:Barbagallo Display
DESCRIPTION:Barbagallo will be on Hillarys Boardwalk’s Amphitheatre Friday 28th Jan- Sunday 1st Feb 2020. Come down and see their great range of SUV’s including; Land Rover\, Jaguar\, Volvo\, Alfa Romeo and Range Rover; and perhaps book your next test drive. We hope to see you there! \n
URL:https://www.sorrentoquayboardwalk.com.au/event/barbagallo-display-6/
LOCATION:Sorrento Quay Boardwalk\, 58 Southside Drive\, Hillarys\, Western Australia\, 6025\, Australia
GEO:-31.8247391;115.7397822
X-APPLE-STRUCTURED-LOCATION;VALUE=URI;X-ADDRESS=Sorrento Quay Boardwalk 58 Southside Drive Hillarys Western Australia 6025 Australia;X-APPLE-RADIUS=500;X-TITLE=58 Southside Drive:geo:115.7397822,-31.8247391
END:VEVENT
END:VCALENDAR