BEGIN:VCALENDAR
VERSION:2.0
PRODID:-//Sorrento Quay Boardwalk - ECPv5.0.1//NONSGML v1.0//EN
CALSCALE:GREGORIAN
METHOD:PUBLISH
X-WR-CALNAME:Sorrento Quay Boardwalk
X-ORIGINAL-URL:https://www.sorrentoquayboardwalk.com.au
X-WR-CALDESC:Events for Sorrento Quay Boardwalk
BEGIN:VTIMEZONE
TZID:Asia/Shanghai
BEGIN:STANDARD
TZOFFSETFROM:+0800
TZOFFSETTO:+0800
TZNAME:CST
DTSTART:20190101T000000
END:STANDARD
END:VTIMEZONE
BEGIN:VEVENT
DTSTART;VALUE=DATE:20191207
DTEND;VALUE=DATE:20200229
DTSTAMP:20200227T231202
CREATED:20191120T084020Z
LAST-MODIFIED:20191120T084020Z
UID:4361-1575676800-1582934399@www.sorrentoquayboardwalk.com.au
SUMMARY:Island Aqua Park
DESCRIPTION:The floating water park is coming back bigger and better this year… we are talking 3x the size of last year! It will be here all summer so book your place online today! \nFor ages 6 & over! \n
URL:https://www.sorrentoquayboardwalk.com.au/event/island-aqua-park-2/
LOCATION:Sorrento Quay Boardwalk\, 58 Southside Drive\, Hillarys\, Western Australia\, 6025\, Australia
GEO:-31.8247391;115.7397822
X-APPLE-STRUCTURED-LOCATION;VALUE=URI;X-ADDRESS=Sorrento Quay Boardwalk 58 Southside Drive Hillarys Western Australia 6025 Australia;X-APPLE-RADIUS=500;X-TITLE=58 Southside Drive:geo:115.7397822,-31.8247391
END:VEVENT
BEGIN:VEVENT
DTSTART;TZID=Asia/Shanghai:20191220T100000
DTEND;TZID=Asia/Shanghai:20200202T170000
DTSTAMP:20200227T231202
CREATED:20191120T085440Z
LAST-MODIFIED:20191120T085504Z
UID:4366-1576836000-1580662800@www.sorrentoquayboardwalk.com.au
SUMMARY:Splash Island
DESCRIPTION:“Splash Island” Water Themed Amusement Park is coming back to Sorrento Quay Boardwalk these school holidays! Come down and join in on the fun. There will be water-based bumper cars\, water slides and more! The amusements range from $6-10 dollars each and suitable for children 2-12 years old. \n
URL:https://www.sorrentoquayboardwalk.com.au/event/splash-island-6/
LOCATION:Sorrento Quay Boardwalk\, 58 Southside Drive\, Hillarys\, Western Australia\, 6025\, Australia
GEO:-31.8247391;115.7397822
X-APPLE-STRUCTURED-LOCATION;VALUE=URI;X-ADDRESS=Sorrento Quay Boardwalk 58 Southside Drive Hillarys Western Australia 6025 Australia;X-APPLE-RADIUS=500;X-TITLE=58 Southside Drive:geo:115.7397822,-31.8247391
END:VEVENT
END:VCALENDAR